BEGIN:VCALENDAR
VERSION:2.0
PRODID:icalendar-ruby
CALSCALE:GREGORIAN
METHOD:PUBLISH
BEGIN:VEVENT
DTSTAMP:20260426T002520Z
UID:1e93c0de-6786-4ff9-8eeb-1378a8401fd1
DTSTART;VALUE=DATE:20220723
DTEND;VALUE=DATE:20220723
DESCRIPTION:Cabot BMX
LOCATION:2351 Willie Ray Road  Cabot AR 72023 USA
SUMMARY:Local Race Single
URL:/site/bmx_races/494373
END:VEVENT
END:VCALENDAR
