BEGIN:VCALENDAR
VERSION:2.0
PRODID:icalendar-ruby
CALSCALE:GREGORIAN
METHOD:PUBLISH
BEGIN:VEVENT
DTSTAMP:20260422T095657Z
UID:819bbc9b-029c-4ca2-88ff-d33167ce76db
DTSTART;VALUE=DATE:20220920
DTEND;VALUE=DATE:20220920
DESCRIPTION:First State BMX
LOCATION:1045 N Walnut St  Milford DE 19963 USA
SUMMARY:Local Race Single
URL:/site/bmx_races/494484
END:VEVENT
END:VCALENDAR
