BEGIN:VCALENDAR
VERSION:2.0
PRODID:icalendar-ruby
CALSCALE:GREGORIAN
METHOD:PUBLISH
BEGIN:VEVENT
DTSTAMP:20260423T202909Z
UID:af9e3557-3bbf-45e1-a4b7-cddeb84ccea1
DTSTART;VALUE=DATE:20220909
DTEND;VALUE=DATE:20220910
DESCRIPTION:Horseheads BMX
LOCATION:190 Wygant Rd  Horseheads NY 14845 USA
SUMMARY:New York State Championship Weekend
URL:/site/bmx_races/494637
END:VEVENT
END:VCALENDAR
