BEGIN:VCALENDAR
VERSION:2.0
PRODID:icalendar-ruby
CALSCALE:GREGORIAN
METHOD:PUBLISH
BEGIN:VEVENT
DTSTAMP:20260419T170709Z
UID:3cf007df-d4a9-4449-8660-27271d4c6420
DTSTART;VALUE=DATE:20220826
DTEND;VALUE=DATE:20220828
DESCRIPTION:Desoto BMX
LOCATION:Grimes Park 500 E. Centre Park Blvd Desoto TX 75115 USA
SUMMARY:2022 Texas State Championship Weekend
URL:/site/bmx_races/494660
END:VEVENT
END:VCALENDAR
