BEGIN:VCALENDAR
VERSION:2.0
PRODID:icalendar-ruby
CALSCALE:GREGORIAN
METHOD:PUBLISH
BEGIN:VEVENT
DTSTAMP:20260422T083214Z
UID:9e599190-8697-42f3-9d4c-f2a5be0462e7
DTSTART;VALUE=DATE:20221029
DTEND;VALUE=DATE:20221029
DESCRIPTION:Marysville BMX
LOCATION:618 N Main St  Marysville OH 43040 USA
SUMMARY:Earned Double
URL:/site/bmx_races/495696
END:VEVENT
END:VCALENDAR
