BEGIN:VCALENDAR
VERSION:2.0
PRODID:icalendar-ruby
CALSCALE:GREGORIAN
METHOD:PUBLISH
BEGIN:VEVENT
DTSTAMP:20260422T225146Z
UID:fb46139d-c93c-49c8-bfd6-a131d8bfd759
DTSTART;VALUE=DATE:20221105
DTEND;VALUE=DATE:20221105
DESCRIPTION:Hunterdon County BMX
LOCATION:314 Rt 12 North  Flemington NJ 08822 USA
SUMMARY:Earned Double
URL:/site/bmx_races/495704
END:VEVENT
END:VCALENDAR
