BEGIN:VCALENDAR
VERSION:2.0
PRODID:icalendar-ruby
CALSCALE:GREGORIAN
METHOD:PUBLISH
BEGIN:VEVENT
DTSTAMP:20260423T053148Z
UID:170621e4-5194-493d-9664-ce2c5b800c25
DTSTART;VALUE=DATE:20220603
DTEND;VALUE=DATE:20220603
DESCRIPTION:Tucson BMX
LOCATION:9245 E Irvington  Tucson AZ 85730 USA
SUMMARY:Local Race Single
URL:/site/bmx_races/495765
END:VEVENT
END:VCALENDAR
