BEGIN:VCALENDAR
VERSION:2.0
PRODID:icalendar-ruby
CALSCALE:GREGORIAN
METHOD:PUBLISH
BEGIN:VEVENT
DTSTAMP:20260424T113050Z
UID:131c5e7f-b336-49bf-a7f6-e6f9a4bec1c4
DTSTART;VALUE=DATE:20220520
DTEND;VALUE=DATE:20220520
DESCRIPTION:Durango BMX
LOCATION:360 S Camino Del Rio\,  Durango CO 81301 USA
SUMMARY:Local Race Single
URL:/site/bmx_races/496222
END:VEVENT
END:VCALENDAR
