BEGIN:VCALENDAR
VERSION:2.0
PRODID:icalendar-ruby
CALSCALE:GREGORIAN
METHOD:PUBLISH
BEGIN:VEVENT
DTSTAMP:20260424T124527Z
UID:a8de34f3-882a-462b-a1f9-77ea4599cd64
DTSTART;VALUE=DATE:20220724
DTEND;VALUE=DATE:20220724
DESCRIPTION:Richmond BMX
LOCATION:4401 Hobbs Lane   Next To Church Richmond VA 23231 USA
SUMMARY:Local Race Single
URL:/site/bmx_races/496366
END:VEVENT
END:VCALENDAR
