BEGIN:VCALENDAR
VERSION:2.0
PRODID:icalendar-ruby
CALSCALE:GREGORIAN
METHOD:PUBLISH
BEGIN:VEVENT
DTSTAMP:20260423T015926Z
UID:de242848-6928-4377-a6b2-9d5740792f71
DTSTART;VALUE=DATE:20221030
DTEND;VALUE=DATE:20221030
DESCRIPTION:Richmond BMX
LOCATION:4401 Hobbs Lane   Next To Church Richmond VA 23231 USA
SUMMARY:Local Race Single
URL:/site/bmx_races/496380
END:VEVENT
END:VCALENDAR
