BEGIN:VCALENDAR
VERSION:2.0
PRODID:icalendar-ruby
CALSCALE:GREGORIAN
METHOD:PUBLISH
BEGIN:VEVENT
DTSTAMP:20260420T143532Z
UID:00837759-fe4a-4a02-9f8b-a642634f8c61
DTSTART;VALUE=DATE:20220617
DTEND;VALUE=DATE:20220617
DESCRIPTION:Penticton BMX
LOCATION:630 Munson Mountain Road  Penticton BC V2A 8S5 CAN
SUMMARY:Race for Life Double
URL:/site/bmx_races/497207
END:VEVENT
END:VCALENDAR
