BEGIN:VCALENDAR
VERSION:2.0
PRODID:icalendar-ruby
CALSCALE:GREGORIAN
METHOD:PUBLISH
BEGIN:VEVENT
DTSTAMP:20260423T211551Z
UID:6c80b8bd-7edb-45a0-8b84-02f6491e34e2
DTSTART;VALUE=DATE:20220930
DTEND;VALUE=DATE:20220930
DESCRIPTION:Springfield BMX Raceway
LOCATION:4115 Sandhill Road  Springfield IL 62702 USA
SUMMARY:Warnicke Single
URL:/site/bmx_races/497308
END:VEVENT
END:VCALENDAR
