BEGIN:VCALENDAR
VERSION:2.0
PRODID:icalendar-ruby
CALSCALE:GREGORIAN
METHOD:PUBLISH
BEGIN:VEVENT
DTSTAMP:20260422T135753Z
UID:9a7a197d-2f61-4a1e-9c14-64dfb13ab3cd
DTSTART;VALUE=DATE:20220926
DTEND;VALUE=DATE:20220926
DESCRIPTION:Derby City BMX
LOCATION:3000 Freys Hill Rd  Louisville KY 40241 USA
SUMMARY:Practice
URL:/site/bmx_races/497370
END:VEVENT
END:VCALENDAR
