BEGIN:VCALENDAR
VERSION:2.0
PRODID:icalendar-ruby
CALSCALE:GREGORIAN
METHOD:PUBLISH
BEGIN:VEVENT
DTSTAMP:20260422T162043Z
UID:df86b507-8cf7-45c4-9d08-3b3fa7c77f0a
DTSTART;VALUE=DATE:20220803
DTEND;VALUE=DATE:20220803
DESCRIPTION:Derby City BMX
LOCATION:3000 Freys Hill Rd  Louisville KY 40241 USA
SUMMARY:Local Race Single
URL:/site/bmx_races/497383
END:VEVENT
END:VCALENDAR
