BEGIN:VCALENDAR
VERSION:2.0
PRODID:icalendar-ruby
CALSCALE:GREGORIAN
METHOD:PUBLISH
BEGIN:VEVENT
DTSTAMP:20260419T172959Z
UID:0eb930c5-e958-44e2-bff5-56f185a33e55
DTSTART;VALUE=DATE:20220318
DTEND;VALUE=DATE:20220318
DESCRIPTION:St. Cloud BMX
LOCATION:2401 Peghorn Way  St. Cloud FL 34769 USA
SUMMARY:Local Race Single
URL:/site/bmx_races/497730
END:VEVENT
END:VCALENDAR
