BEGIN:VCALENDAR
VERSION:2.0
PRODID:icalendar-ruby
CALSCALE:GREGORIAN
METHOD:PUBLISH
BEGIN:VEVENT
DTSTAMP:20260420T082145Z
UID:2b946c81-bca6-4895-bed5-0b4b04f25b05
DTSTART;VALUE=DATE:20221004
DTEND;VALUE=DATE:20221004
DESCRIPTION:Midland BMX
LOCATION:3950 E Ashman St  Midland MI 48642 USA
SUMMARY:Practice
URL:/site/bmx_races/498213
END:VEVENT
END:VCALENDAR
