BEGIN:VCALENDAR
VERSION:2.0
PRODID:icalendar-ruby
CALSCALE:GREGORIAN
METHOD:PUBLISH
BEGIN:VEVENT
DTSTAMP:20260422T162857Z
UID:0b114af9-9608-4ac1-9b7a-f69a2f84a879
DTSTART;VALUE=DATE:20220907
DTEND;VALUE=DATE:20220907
DESCRIPTION:Hardesty National BMX Stadium
LOCATION:490 N Lansing Ave  Tulsa OK 74120 USA
SUMMARY:Practice
URL:/site/bmx_races/498574
END:VEVENT
END:VCALENDAR
