BEGIN:VCALENDAR
VERSION:2.0
PRODID:icalendar-ruby
CALSCALE:GREGORIAN
METHOD:PUBLISH
BEGIN:VEVENT
DTSTAMP:20260422T135754Z
UID:1b14594a-0d01-4dc7-b30c-d851bb1ecd75
DTSTART;VALUE=DATE:20220811
DTEND;VALUE=DATE:20220811
DESCRIPTION:Razor City BMX
LOCATION:200 Pumphouse Ln  Gillette WY 82716 USA
SUMMARY:Local Race Single
URL:/site/bmx_races/498997
END:VEVENT
END:VCALENDAR
