BEGIN:VCALENDAR
VERSION:2.0
PRODID:icalendar-ruby
CALSCALE:GREGORIAN
METHOD:PUBLISH
BEGIN:VEVENT
DTSTAMP:20260422T104712Z
UID:28fe8732-c375-4023-8fda-d6e41659675d
DTSTART;VALUE=DATE:20221020
DTEND;VALUE=DATE:20221020
DESCRIPTION:Razor City BMX
LOCATION:200 Pumphouse Ln  Gillette WY 82716 USA
SUMMARY:Local Race Single
URL:/site/bmx_races/499017
END:VEVENT
END:VCALENDAR
