BEGIN:VCALENDAR
VERSION:2.0
PRODID:icalendar-ruby
CALSCALE:GREGORIAN
METHOD:PUBLISH
BEGIN:VEVENT
DTSTAMP:20260424T114023Z
UID:5998e0fa-f31b-48a9-aac1-e382f98b1354
DTSTART;VALUE=DATE:20220402
DTEND;VALUE=DATE:20220402
DESCRIPTION:Whittier Narrows BMX
LOCATION:1601 N Rosemead Blvd  South El Monte CA 91733 USA
SUMMARY:State Race Double
URL:/site/bmx_races/499152
END:VEVENT
END:VCALENDAR
