BEGIN:VCALENDAR
VERSION:2.0
PRODID:icalendar-ruby
CALSCALE:GREGORIAN
METHOD:PUBLISH
BEGIN:VEVENT
DTSTAMP:20260422T194806Z
UID:268ea604-e20b-4888-a61a-bf069c6b444c
DTSTART;VALUE=DATE:20220607
DTEND;VALUE=DATE:20220607
DESCRIPTION:Mike Sedar BMX
LOCATION:789 College Dr  Casper WY 82601 USA
SUMMARY:Local Race Single
URL:/site/bmx_races/499161
END:VEVENT
END:VCALENDAR
