BEGIN:VCALENDAR
VERSION:2.0
PRODID:icalendar-ruby
CALSCALE:GREGORIAN
METHOD:PUBLISH
BEGIN:VEVENT
DTSTAMP:20260422T163047Z
UID:0f69d265-d96c-4852-821f-97b284f724a6
DTSTART;VALUE=DATE:20220830
DTEND;VALUE=DATE:20220830
DESCRIPTION:Mike Sedar BMX
LOCATION:789 College Dr  Casper WY 82601 USA
SUMMARY:Local Race Single
URL:/site/bmx_races/499173
END:VEVENT
END:VCALENDAR
