BEGIN:VCALENDAR
VERSION:2.0
PRODID:icalendar-ruby
CALSCALE:GREGORIAN
METHOD:PUBLISH
BEGIN:VEVENT
DTSTAMP:20260422T194739Z
UID:ed60b896-a85c-4e7b-bb65-c441e9bcb696
DTSTART;VALUE=DATE:20220603
DTEND;VALUE=DATE:20220603
DESCRIPTION:Mike Sedar BMX
LOCATION:789 College Dr  Casper WY 82601 USA
SUMMARY:BMX Registration Day Single
URL:/site/bmx_races/499859
END:VEVENT
END:VCALENDAR
