BEGIN:VCALENDAR
VERSION:2.0
PRODID:icalendar-ruby
CALSCALE:GREGORIAN
METHOD:PUBLISH
BEGIN:VEVENT
DTSTAMP:20260423T013408Z
UID:904fbe12-139c-4565-9088-098157ca73f7
DTSTART;VALUE=DATE:20220901
DTEND;VALUE=DATE:20220901
DESCRIPTION:Snake River BMX
LOCATION:1860 East 65th South  Idaho Falls ID 83404 USA
SUMMARY:Local Race Single
URL:/site/bmx_races/500711
END:VEVENT
END:VCALENDAR
