BEGIN:VCALENDAR
VERSION:2.0
PRODID:icalendar-ruby
CALSCALE:GREGORIAN
METHOD:PUBLISH
BEGIN:VEVENT
DTSTAMP:20260424T030332Z
UID:09145f04-3ed0-424e-ae31-e3a20529a919
DTSTART;VALUE=DATE:20220819
DTEND;VALUE=DATE:20220819
DESCRIPTION:Cowtown BMX
LOCATION:447 Haltom Rd  Ft. Worth TX 76117 USA
SUMMARY:Local Race Single
URL:/site/bmx_races/500840
END:VEVENT
END:VCALENDAR
