BEGIN:VCALENDAR
VERSION:2.0
PRODID:icalendar-ruby
CALSCALE:GREGORIAN
METHOD:PUBLISH
BEGIN:VEVENT
DTSTAMP:20260419T165611Z
UID:f6143e4e-a69c-4f0a-9b7a-94803647f45f
DTSTART;VALUE=DATE:20220507
DTEND;VALUE=DATE:20220507
DESCRIPTION:Waterford Oaks BMX
LOCATION:1702 Scott Lake Rd  Waterford MI 48328 USA
SUMMARY:Local Race Single
URL:/site/bmx_races/500892
END:VEVENT
END:VCALENDAR
