BEGIN:VCALENDAR
VERSION:2.0
PRODID:icalendar-ruby
CALSCALE:GREGORIAN
METHOD:PUBLISH
BEGIN:VEVENT
DTSTAMP:20260419T161424Z
UID:6184c732-c5ad-4a64-a809-60ee1e74e14e
DTSTART;VALUE=DATE:20220428
DTEND;VALUE=DATE:20220428
DESCRIPTION:Freedom Park BMX Raceway
LOCATION:530 Convair St  Camarillo CA 93010 USA
SUMMARY:Local Race Single
URL:/site/bmx_races/501270
END:VEVENT
END:VCALENDAR
