BEGIN:VCALENDAR
VERSION:2.0
PRODID:icalendar-ruby
CALSCALE:GREGORIAN
METHOD:PUBLISH
BEGIN:VEVENT
DTSTAMP:20260420T214605Z
UID:5bf9dadc-3cf6-45f1-bc13-598802b5da8f
DTSTART;VALUE=DATE:20220619
DTEND;VALUE=DATE:20220619
DESCRIPTION:Hornet`s Nest BMX
LOCATION:6301 Beatties Ford Rd  Charlotte NC 28216 USA
SUMMARY:Local Race Single
URL:/site/bmx_races/501455
END:VEVENT
END:VCALENDAR
