BEGIN:VCALENDAR
VERSION:2.0
PRODID:icalendar-ruby
CALSCALE:GREGORIAN
METHOD:PUBLISH
BEGIN:VEVENT
DTSTAMP:20260420T152051Z
UID:48fd46c5-4082-4c94-ba01-0367ba684590
DTSTART;VALUE=DATE:20221009
DTEND;VALUE=DATE:20221009
DESCRIPTION:Hornet`s Nest BMX
LOCATION:6301 Beatties Ford Rd  Charlotte NC 28216 USA
SUMMARY:Local Race Single
URL:/site/bmx_races/501471
END:VEVENT
END:VCALENDAR
