BEGIN:VCALENDAR
VERSION:2.0
PRODID:icalendar-ruby
CALSCALE:GREGORIAN
METHOD:PUBLISH
BEGIN:VEVENT
DTSTAMP:20260426T015932Z
UID:a45e9333-007d-494c-be20-bc5520e98f8d
DTSTART;VALUE=DATE:20220605
DTEND;VALUE=DATE:20220605
DESCRIPTION:Kingston BMX
LOCATION:1180 Woodbine Rd  Kingston ON K7P 2X6 CAN
SUMMARY:Local Race Single
URL:/site/bmx_races/502072
END:VEVENT
END:VCALENDAR
