BEGIN:VCALENDAR
VERSION:2.0
PRODID:icalendar-ruby
CALSCALE:GREGORIAN
METHOD:PUBLISH
BEGIN:VEVENT
DTSTAMP:20260423T230113Z
UID:41065123-3e1f-4c51-bfbf-6f7f68c31f6e
DTSTART;VALUE=DATE:20220723
DTEND;VALUE=DATE:20220723
DESCRIPTION:Hodag BMX
LOCATION:995 Lynne St  Rhinelander WI 54501 USA
SUMMARY:Race for Life Double
URL:/site/bmx_races/502260
END:VEVENT
END:VCALENDAR
