BEGIN:VCALENDAR
VERSION:2.0
PRODID:icalendar-ruby
CALSCALE:GREGORIAN
METHOD:PUBLISH
BEGIN:VEVENT
DTSTAMP:20260422T000151Z
UID:31893425-43ff-4ef5-b369-dd01986b2913
DTSTART;VALUE=DATE:20220518
DTEND;VALUE=DATE:20220518
DESCRIPTION:Grand Prix BMX at SoCal Fair
LOCATION:18700 Lake Perris Dr  Perris CA 92571 USA
SUMMARY:Local Race Single
URL:/site/bmx_races/502334
END:VEVENT
END:VCALENDAR
