BEGIN:VCALENDAR
VERSION:2.0
PRODID:icalendar-ruby
CALSCALE:GREGORIAN
METHOD:PUBLISH
BEGIN:VEVENT
DTSTAMP:20260420T230556Z
UID:268fc8f1-0bcd-4e81-9ff6-4f085ab93900
DTSTART;VALUE=DATE:20220620
DTEND;VALUE=DATE:20220620
DESCRIPTION:Abbotsford BMX
LOCATION:32470 Haida Drive  Abbotsford BC V2T5A6 CAN
SUMMARY:Practice
URL:/site/bmx_races/502508
END:VEVENT
END:VCALENDAR
