BEGIN:VCALENDAR
VERSION:2.0
PRODID:icalendar-ruby
CALSCALE:GREGORIAN
METHOD:PUBLISH
BEGIN:VEVENT
DTSTAMP:20260422T145014Z
UID:722b1003-9331-421e-9732-aff85e68e893
DTSTART;VALUE=DATE:20220611
DTEND;VALUE=DATE:20220611
DESCRIPTION:Wolfe Creek BMX
LOCATION:22843 Creek Road  Chatham ON  CAN
SUMMARY:Local Race Single
URL:/site/bmx_races/502689
END:VEVENT
END:VCALENDAR
