BEGIN:VCALENDAR
VERSION:2.0
PRODID:icalendar-ruby
CALSCALE:GREGORIAN
METHOD:PUBLISH
BEGIN:VEVENT
DTSTAMP:20260420T230436Z
UID:fc90d421-ae02-46a0-b765-60aa7e3cb11c
DTSTART;VALUE=DATE:20220624
DTEND;VALUE=DATE:20220624
DESCRIPTION:Abbotsford BMX
LOCATION:32470 Haida Drive  Abbotsford BC V2T5A6 CAN
SUMMARY:Local Race Single
URL:/site/bmx_races/502901
END:VEVENT
END:VCALENDAR
