BEGIN:VCALENDAR
VERSION:2.0
PRODID:icalendar-ruby
CALSCALE:GREGORIAN
METHOD:PUBLISH
BEGIN:VEVENT
DTSTAMP:20260420T161332Z
UID:93cba241-0fc2-4316-a415-0989d47d1cc1
DTSTART;VALUE=DATE:20221015
DTEND;VALUE=DATE:20221015
DESCRIPTION:Abbotsford BMX
LOCATION:32470 Haida Drive  Abbotsford BC V2T5A6 CAN
SUMMARY:Non-Riding Event
URL:/site/bmx_races/502910
END:VEVENT
END:VCALENDAR
