BEGIN:VCALENDAR
VERSION:2.0
PRODID:icalendar-ruby
CALSCALE:GREGORIAN
METHOD:PUBLISH
BEGIN:VEVENT
DTSTAMP:20260420T192923Z
UID:beb4f0bf-728e-4fee-81d7-6a51924857c8
DTSTART;VALUE=DATE:20220614
DTEND;VALUE=DATE:20220614
DESCRIPTION:Mayes County BMX
LOCATION:526 Airport Rd At Hwy 69 S  Pryor OK 74363 USA
SUMMARY:BMX Registration Day Single
URL:/site/bmx_races/503854
END:VEVENT
END:VCALENDAR
