BEGIN:VCALENDAR
VERSION:2.0
PRODID:icalendar-ruby
CALSCALE:GREGORIAN
METHOD:PUBLISH
BEGIN:VEVENT
DTSTAMP:20260419T155456Z
UID:e36bd486-8cad-4fa8-9d53-7b55a101f9a8
DTSTART;VALUE=DATE:20220911
DTEND;VALUE=DATE:20220911
DESCRIPTION:Goodyear BMX Raceway
LOCATION:15660 W Roeser Rd  Goodyear AZ 85338 USA
SUMMARY:Local Race Single
URL:/site/bmx_races/503938
END:VEVENT
END:VCALENDAR
