BEGIN:VCALENDAR
VERSION:2.0
PRODID:icalendar-ruby
CALSCALE:GREGORIAN
METHOD:PUBLISH
BEGIN:VEVENT
DTSTAMP:20260422T194740Z
UID:d8943d40-47b8-46c4-8ac6-d5d0121c685f
DTSTART;VALUE=DATE:20220608
DTEND;VALUE=DATE:20220608
DESCRIPTION:Rogue Valley BMX
LOCATION:Highland Drive  Medford OR 97504 USA
SUMMARY:Local Race Single
URL:/site/bmx_races/503979
END:VEVENT
END:VCALENDAR
