BEGIN:VCALENDAR
VERSION:2.0
PRODID:icalendar-ruby
CALSCALE:GREGORIAN
METHOD:PUBLISH
BEGIN:VEVENT
DTSTAMP:20260423T092420Z
UID:e7cff75c-09a0-480e-b7e1-e67131601a50
DTSTART;VALUE=DATE:20131103
DTEND;VALUE=DATE:20131103
DESCRIPTION:Manzanita Park BMX
LOCATION: 17100 Castroville Blvd  Prunedale CA 93907 USA
SUMMARY:Local Race Single
URL:/site/bmx_races/50434
END:VEVENT
END:VCALENDAR
