BEGIN:VCALENDAR
VERSION:2.0
PRODID:icalendar-ruby
CALSCALE:GREGORIAN
METHOD:PUBLISH
BEGIN:VEVENT
DTSTAMP:20260422T005056Z
UID:30af4f64-9c6a-4e6d-888b-20597643d920
DTSTART;VALUE=DATE:20230503
DTEND;VALUE=DATE:20230503
DESCRIPTION:Boulder BMX\, Inc
LOCATION:1799 Commons Way  Boulder City NV 89005 USA
SUMMARY:Practice
URL:/site/bmx_races/504520
END:VEVENT
END:VCALENDAR
