BEGIN:VCALENDAR
VERSION:2.0
PRODID:icalendar-ruby
CALSCALE:GREGORIAN
METHOD:PUBLISH
BEGIN:VEVENT
DTSTAMP:20260422T130404Z
UID:19de9fc4-fc3f-4716-9f5c-d0fead7817e8
DTSTART;VALUE=DATE:20220713
DTEND;VALUE=DATE:20220713
DESCRIPTION:Wolfe Creek BMX
LOCATION:22843 Creek Road  Chatham ON  CAN
SUMMARY:Local Race Single
URL:/site/bmx_races/504607
END:VEVENT
END:VCALENDAR
