BEGIN:VCALENDAR
VERSION:2.0
PRODID:icalendar-ruby
CALSCALE:GREGORIAN
METHOD:PUBLISH
BEGIN:VEVENT
DTSTAMP:20260424T063151Z
UID:8d6bce9a-a772-4356-b7bc-4151cad710ac
DTSTART;VALUE=DATE:20130428
DTEND;VALUE=DATE:20130428
DESCRIPTION:Central Jersey BMX
LOCATION:2449 U.S. 9  Howell NJ 7731 USA
SUMMARY:Local Race Single
URL:/site/bmx_races/50464
END:VEVENT
END:VCALENDAR
