BEGIN:VCALENDAR
VERSION:2.0
PRODID:icalendar-ruby
CALSCALE:GREGORIAN
METHOD:PUBLISH
BEGIN:VEVENT
DTSTAMP:20260423T040831Z
UID:5830dc12-4c39-4354-81d6-8581897eb9ee
DTSTART;VALUE=DATE:20220728
DTEND;VALUE=DATE:20220728
DESCRIPTION:Oldsmar BMX Supercross
LOCATION:Oldsmar Sports Complex 3120 Tampa Road Oldsmar FL 34677 USA
SUMMARY:Local Race Single
URL:/site/bmx_races/504970
END:VEVENT
END:VCALENDAR
