BEGIN:VCALENDAR
VERSION:2.0
PRODID:icalendar-ruby
CALSCALE:GREGORIAN
METHOD:PUBLISH
BEGIN:VEVENT
DTSTAMP:20260423T191822Z
UID:e36ebc8a-34f3-4371-a0f2-1c9789454e31
DTSTART;VALUE=DATE:20220729
DTEND;VALUE=DATE:20220729
DESCRIPTION:Duke City BMX
LOCATION:1011 Buena Vista Dr Se  Albuquerque NM 87106 USA
SUMMARY:Local Race Single
URL:/site/bmx_races/505092
END:VEVENT
END:VCALENDAR
