BEGIN:VCALENDAR
VERSION:2.0
PRODID:icalendar-ruby
CALSCALE:GREGORIAN
METHOD:PUBLISH
BEGIN:VEVENT
DTSTAMP:20260420T192820Z
UID:3599c75b-32d3-48bc-a381-7fc84dd5be31
DTSTART;VALUE=DATE:20220811
DTEND;VALUE=DATE:20220811
DESCRIPTION:Abbotsford BMX
LOCATION:32470 Haida Drive  Abbotsford BC V2T5A6 CAN
SUMMARY:Open House
URL:/site/bmx_races/505528
END:VEVENT
END:VCALENDAR
