BEGIN:VCALENDAR
VERSION:2.0
PRODID:icalendar-ruby
CALSCALE:GREGORIAN
METHOD:PUBLISH
BEGIN:VEVENT
DTSTAMP:20260421T190651Z
UID:b9480c1c-9762-4427-abd4-0b26355e1968
DTSTART;VALUE=DATE:20220810
DTEND;VALUE=DATE:20220810
DESCRIPTION:Grand Prix BMX at SoCal Fair
LOCATION:18700 Lake Perris Dr  Perris CA 92571 USA
SUMMARY:Local Race Single
URL:/site/bmx_races/506112
END:VEVENT
END:VCALENDAR
