BEGIN:VCALENDAR
VERSION:2.0
PRODID:icalendar-ruby
CALSCALE:GREGORIAN
METHOD:PUBLISH
BEGIN:VEVENT
DTSTAMP:20260422T135836Z
UID:21dec85d-1809-4bbb-b328-fed2f8ec64d6
DTSTART;VALUE=DATE:20220901
DTEND;VALUE=DATE:20220901
DESCRIPTION:Derby City BMX
LOCATION:3000 Freys Hill Rd  Louisville KY 40241 USA
SUMMARY:Practice
URL:/site/bmx_races/506114
END:VEVENT
END:VCALENDAR
