BEGIN:VCALENDAR
VERSION:2.0
PRODID:icalendar-ruby
CALSCALE:GREGORIAN
METHOD:PUBLISH
BEGIN:VEVENT
DTSTAMP:20260426T005459Z
UID:fae1d825-97fe-4eec-ae9e-5e80aff98b65
DTSTART;VALUE=DATE:20221101
DTEND;VALUE=DATE:20221101
DESCRIPTION:Okeeheelee BMX
LOCATION:8145 Forest Hill Blvd  West Palm Beach FL 33413 USA
SUMMARY:Local Race Single
URL:/site/bmx_races/506201
END:VEVENT
END:VCALENDAR
