BEGIN:VCALENDAR
VERSION:2.0
PRODID:icalendar-ruby
CALSCALE:GREGORIAN
METHOD:PUBLISH
BEGIN:VEVENT
DTSTAMP:20260423T145550Z
UID:a327f2e2-5d36-4328-a88d-89df6d53bae0
DTSTART;VALUE=DATE:20220806
DTEND;VALUE=DATE:20220806
DESCRIPTION:River City BMX
LOCATION:251 Ne Agness  Grants Pass OR 97526 USA
SUMMARY:Local Race Single
URL:/site/bmx_races/506251
END:VEVENT
END:VCALENDAR
